BEGIN:VCALENDAR
VERSION:2.0
PRODID:icalendar-ruby
CALSCALE:GREGORIAN
METHOD:PUBLISH
BEGIN:VEVENT
DTSTAMP:20260420T030256Z
UID:336-29142@gloriadei.ca
DTSTART;VALUE=DATE:20260531
DTEND;VALUE=DATE:20260531
CLASS:PUBLIC
CREATED:20260418T213327
DESCRIPTION:Our church - the Evangelical Lutheran Church in Canada - is cel
 ebrating its 40th Birthday this year. To help celebrate our bishops are in
 viting us to a Day of Action on May 31.  The idea is for congregations ac
 ross all of our Synods to  step out beyond our church walls and engage in
  acts of service in our communities.  They've created a nifty video to te
 ll us all about it. You can watch it here. We are gathering ideas\, so wat
 ch this space for more details in the weeks to come. 
LAST-MODIFIED:20260418T213327
LOCATION:
SUMMARY:ELCIC Day of Action
URL;VALUE=URI:https://www.gloriadei.ca/events/elcic-day-of-action/2026-05-3
 1
ATTACH;FILENAME=Day of Action Banner.png;FMTTYPE=image/png:https://dq5pwpg1
 q8ru0.cloudfront.net/2026/04/19/04/32/12/e86875df-5b3f-4d74-984b-8f8f36e18
 538/Day%20of%20Action%20Banner.png
END:VEVENT
END:VCALENDAR
